BEGIN:VCALENDAR
VERSION:2.0
PRODID:-//ChamberMaster//Event Calendar 2.0//EN
METHOD:PUBLISH
X-PUBLISHED-TTL:P3D
REFRESH-INTERVAL:P3D
CALSCALE:GREGORIAN
BEGIN:VEVENT
DTSTART:20240509T160000Z
DTEND:20240509T180000Z
X-MICROSOFT-CDO-ALLDAYEVENT:FALSE
SUMMARY:CCW Spring Salad Luncheon
DESCRIPTION:The Holy Redeemer CCW Spring Salad Luncheon is Thursday\, May 9th in Carlin Hall from 11 am - 1 pm.  Enjoy delicious salads\, dessert and beverage.  Tickets are available in advance at the Parish Office and Hy-Vee for $12.
X-ALT-DESC;FMTTYPE=text/html:<span style="color:black"><span style="font-size:11.5pt">The Holy Redeemer CCW Spring Salad Luncheon is Thursday\, </span></span><strong><span style="color:black"><span style="font-size:11.5pt">May 9th </span></span></strong><span style="color:black"><span style="font-size:11.5pt">in Carlin Hall from 11 am - 1 pm.&nbsp\; Enjoy delicious salads\, dessert and beverage.&nbsp\; Tickets are available in advance at the Parish Office and Hy-Vee for $12.&nbsp\;</span></span>
LOCATION:Holy Redeemer Catholic Church's Carlin Hall
UID:e.499.20698
SEQUENCE:3
DTSTAMP:20260425T125422Z
URL:http://marshall-mn-dev.chambermaster.com/events/details/ccw-spring-salad-luncheon-20698
END:VEVENT

END:VCALENDAR
