BEGIN:VCALENDAR
VERSION:2.0
PRODID:-//ChamberMaster//Event Calendar 2.0//EN
METHOD:PUBLISH
X-PUBLISHED-TTL:P3D
REFRESH-INTERVAL:P3D
CALSCALE:GREGORIAN
BEGIN:VEVENT
DTSTART:20250731T230000Z
DTEND:20250801T030000Z
X-MICROSOFT-CDO-ALLDAYEVENT:FALSE
SUMMARY:Culinary Paradise 4-Course Cocktail & Mocktail Pairing Dinner
DESCRIPTION:Get ready for an unforgettable evening of flavor\, creativity\, and culinary excellence!\n\nWe're thrilled to partner with renowned Chef Ronnie Walker\, owner and head Chef at Atlantic Place\, to bring you the very 1st Culinary Paradise. With this four-course dining experience\, expertly crafted dishes will be paired perfectly with cocktails and mocktails designed to bring people together for an enjoyable evening of incredible food and innovative drinks.\n\nBrought to you by the Reilly Home Team of Keller Williams Preferred Realty\, KMHL Marshall Radio\, and the United Way of Southwest Minnesota.  \n\nWhether you're a seasoned foodie or just looking for a unique night out\, this event promises to delight your taste buds with bold flavors\, fresh ingredients\, and creative pairings.\n\n?? Vegetarian Option: We're happy to accommodate vegetarian requests just let us know in advance! While this option is guaranteed\, we cannot ensure compliance with other dietary restrictions.
X-ALT-DESC;FMTTYPE=text/html:<p><span style="color:rgb(33\, 41\, 107)"><span style="font-size:20px">Get ready for an unforgettable evening of flavor\, creativity\, and culinary excellence!</span></span></p>\n\n<p><span style="color:rgb(33\, 41\, 107)"><span style="font-size:20px">We&#39\;re thrilled to partner with renowned&nbsp\;</span></span><span style="color:rgb(0\, 68\, 181)"><span style="font-size:20px"><strong>Chef Ronnie Walker</strong></span></span><span style="color:rgb(33\, 41\, 107)"><span style="font-size:20px">\, owner and head Chef at Atlantic Place\, to bring you the very 1st Culinary Paradise. With this four-course dining experience\, expertly crafted dishes will be paired perfectly with cocktails and mocktails&nbsp\;designed to bring people together for an enjoyable evening of incredible food and innovative drinks.</span></span></p>\n\n<p><span style="color:rgb(33\, 41\, 107)"><span style="font-size:20px">Brought to you by the</span></span><span style="color:rgb(0\, 68\, 181)"><span style="font-size:20px">&nbsp\;<strong>Reilly Home Team of Keller Williams Preferred Realty\, KMHL Marshall Radio</strong></span></span><span style="color:rgb(33\, 41\, 107)"><span style="font-size:20px"><strong>\,</strong>&nbsp\;and the United Way of Southwest Minnesota.&nbsp\;&nbsp\;</span></span></p>\n\n<p><span style="color:rgb(33\, 41\, 107)"><span style="font-size:20px">Whether you&#39\;re a seasoned foodie or just looking for a unique night out\, this event promises to delight your taste buds with bold flavors\, fresh ingredients\, and creative pairings.</span></span></p>\n\n<p><span style="color:rgb(33\, 41\, 107)"><span style="font-size:20px">?? Vegetarian Option: We&#39\;re happy to accommodate vegetarian requests&mdash\;just let us know in advance! While this option is guaranteed\, we cannot ensure compliance with other dietary restrictions.</span></span></p>\n\n<p>&nbsp\;</p>\n
LOCATION:100 W College Dr Suite 100 Marshall\, MN 56258
UID:e.499.22256
SEQUENCE:3
DTSTAMP:20260426T012154Z
URL:http://marshall-mn-dev.chambermaster.com/events/details/culinary-paradise-4-course-cocktail-mocktail-pairing-dinner-22256
END:VEVENT

END:VCALENDAR
