BEGIN:VCALENDAR
VERSION:2.0
PRODID:-//ChamberMaster//Event Calendar 2.0//EN
METHOD:PUBLISH
X-PUBLISHED-TTL:P3D
REFRESH-INTERVAL:P3D
CALSCALE:GREGORIAN
BEGIN:VEVENT
DTSTART:20240506T230000Z
DTEND:20240507T000000Z
X-MICROSOFT-CDO-ALLDAYEVENT:FALSE
SUMMARY:KayKo Baton Studio Spring Recital
DESCRIPTION:KayKo Baton Studio students can't wait to "blast to the past" with YOU!\n\nOur recital theme for this year is "IN MY TWIRLING ERA!"\n\n\n\nThe twirlers are excited to show you their new skills\, new routines & sparkly costumes at our upcoming Spring Recital!\n\n\n\nCome & CHEER on our local students!\n\nFriends\, family\, neighbors! Everyone is welcome & invited!\n\nMonday\, May 6th\n\n5:45pm- Doors open for seating\n\n6pm- The SHOW begins!\n\nEntry fee- Cash donation\n\n \n\nGet a glimpse of what our classes look like! Come check out our performance for a fun way to see if your child is interested in learning to twirl\, move\, and groove- ALL things GROOVY!\n\nCome see us in our "twirling era"!
X-ALT-DESC;FMTTYPE=text/html:<div>KayKo Baton Studio students can&#39\;t wait to &quot\;blast to the past&quot\; with YOU!<br />\nOur recital theme for this year is &quot\;IN MY TWIRLING ERA!&quot\;<br />\n<br />\nThe twirlers are excited to show you their new skills\, new routines &amp\; sparkly costumes at our upcoming Spring Recital!<br />\n<br />\nCome &amp\; CHEER on our local students!</div>\n\n<div>Friends\, family\, neighbors! Everyone is welcome &amp\; invited!<br />\nMonday\, May 6th<br />\n5:45pm- Doors open for seating<br />\n6pm- The SHOW begins!<br />\nEntry fee- Cash donation<br />\n&nbsp\;</div>\n\n<div>Get a glimpse of what our classes look like! Come check out our performance for a fun way to see if your child is interested in learning to twirl\, move\, and groove- ALL things GROOVY!<br />\nCome see us in our &quot\;twirling era&quot\;!</div>\n\n<div>&nbsp\;</div>\n
LOCATION:The Upper Room 100 W. College Dr. Suite 300 Marshall\, MN 56258
UID:e.499.20684
SEQUENCE:3
DTSTAMP:20260425T012623Z
URL:http://marshall-mn-dev.chambermaster.com/events/details/kayko-baton-studio-spring-recital-20684
END:VEVENT

END:VCALENDAR
