BEGIN:VCALENDAR
VERSION:2.0
PRODID:-//ChamberMaster//Event Calendar 2.0//EN
METHOD:PUBLISH
X-PUBLISHED-TTL:P3D
REFRESH-INTERVAL:P3D
CALSCALE:GREGORIAN
BEGIN:VEVENT
DTSTART:20241228T003000Z
DTEND:20241228T023000Z
X-MICROSOFT-CDO-ALLDAYEVENT:FALSE
SUMMARY:Santa Hat Trivia
DESCRIPTION:Time to dust off your Santa hats and wear them to Painted Prairie for a fun evening of trivia! Trivia will be a mix of Christmas and winter season trivia. The fun starts at 6:30 p.m.\n\nTeams of four or less encouraged. Free to play---five rounds total!\n\nPrizes will be awarded to the top team!
X-ALT-DESC;FMTTYPE=text/html:<div>Time to dust off your Santa hats and wear them to Painted Prairie for a fun evening of trivia! Trivia will be a mix of Christmas and winter season trivia. The fun starts at 6:30 p.m.</div>\n\n<div>Teams of four or less encouraged. Free to play---five rounds total!</div>\n\n<div>Prizes will be awarded to the top team!&nbsp\;</div>\n
LOCATION:Painted Prairie Vineyard
UID:e.499.21872
SEQUENCE:3
DTSTAMP:20260425T124949Z
URL:http://marshall-mn-dev.chambermaster.com/events/details/santa-hat-trivia-21872
END:VEVENT

END:VCALENDAR
