BEGIN:VCALENDAR
VERSION:2.0
PRODID:-//ChamberMaster//Event Calendar 2.0//EN
METHOD:PUBLISH
X-PUBLISHED-TTL:P3D
REFRESH-INTERVAL:P3D
CALSCALE:GREGORIAN
BEGIN:VEVENT
DTSTART:20250315T140000Z
DTEND:20250315T170000Z
X-MICROSOFT-CDO-ALLDAYEVENT:FALSE
SUMMARY:Shamrock Shuffle 5k Fun Run
DESCRIPTION:Shuffle on this March with the Marshall Area YMCA's Annual Shamrock Shuffle! Join in on the fun as this 5K (3.1-mile) course winds through Marshall and ends at Brau Brothers Brewery. This event is open to runners and walkers of all ages and abilities\, including children and families. Make sure to wear your green and show off your shamrock pride! All runners will receive a free drink ticket to be used at Brau Brothers on 3/15 only.
X-ALT-DESC;FMTTYPE=text/html:<span style="color:rgb(47\, 47\, 47)\; font-family:verdana\,sans-serif\; font-size:16px">Shuffle on this March with the Marshall Area YMCA&#39\;s Annual Shamrock Shuffle! Join in on the fun as this 5K (3.1-mile) course winds through Marshall and ends at Brau Brothers Brewery. This event is open to runners and walkers of all ages and abilities\, including children and families. Make sure to wear your green and show off your shamrock pride! All runners will receive a free drink ticket to be used at Brau Brothers on 3/15 only.&nbsp\;</span>
LOCATION:The race kicks off at the Marshall Area YMCA and ends at Brau Brothers Brewing Co. * Runners can park at Brau Brothers upon arrival and walk to the Y for the start of the race - we will also have a van to shuttle runners from Brau to the Y for the start of the race. The last shuttle will leave Brau at 10:15am!
UID:e.499.21990
SEQUENCE:3
DTSTAMP:20260425T224927Z
URL:http://marshall-mn-dev.chambermaster.com/events/details/shamrock-shuffle-5k-fun-run-21990
END:VEVENT

END:VCALENDAR
